BEGIN:VCALENDAR
VERSION:2.0
PRODID:-//Coalition for a Healthy Community - Oxford Area - ECPv6.15.20//NONSGML v1.0//EN
CALSCALE:GREGORIAN
METHOD:PUBLISH
X-ORIGINAL-URL:https://healthyoxfordarea.org
X-WR-CALDESC:Events for Coalition for a Healthy Community - Oxford Area
REFRESH-INTERVAL;VALUE=DURATION:PT1H
X-Robots-Tag:noindex
X-PUBLISHED-TTL:PT1H
BEGIN:VTIMEZONE
TZID:America/New_York
BEGIN:DAYLIGHT
TZOFFSETFROM:-0500
TZOFFSETTO:-0400
TZNAME:EDT
DTSTART:20230312T070000
END:DAYLIGHT
BEGIN:STANDARD
TZOFFSETFROM:-0400
TZOFFSETTO:-0500
TZNAME:EST
DTSTART:20231105T060000
END:STANDARD
BEGIN:DAYLIGHT
TZOFFSETFROM:-0500
TZOFFSETTO:-0400
TZNAME:EDT
DTSTART:20240310T070000
END:DAYLIGHT
BEGIN:STANDARD
TZOFFSETFROM:-0400
TZOFFSETTO:-0500
TZNAME:EST
DTSTART:20241103T060000
END:STANDARD
BEGIN:DAYLIGHT
TZOFFSETFROM:-0500
TZOFFSETTO:-0400
TZNAME:EDT
DTSTART:20250309T070000
END:DAYLIGHT
BEGIN:STANDARD
TZOFFSETFROM:-0400
TZOFFSETTO:-0500
TZNAME:EST
DTSTART:20251102T060000
END:STANDARD
END:VTIMEZONE
BEGIN:VEVENT
DTSTART;TZID=America/New_York:20241113T031500
DTEND;TZID=America/New_York:20241113T160000
DTSTAMP:20260423T200224
CREATED:20241031T163458Z
LAST-MODIFIED:20241031T163458Z
UID:2039-1731467700-1731513600@healthyoxfordarea.org
SUMMARY:Free Yoga Class at Kramer Elementary
DESCRIPTION:You’re invited! Join us for yoga this coming Wednesday\, November 13th at Kramer Elementary School at 3:15pm. New to yoga? This is a fantastic way to begin! Everyone is welcome to this FREE class!
URL:https://healthyoxfordarea.org/events/free-yoga-class-at-kramer-elementary/
END:VEVENT
BEGIN:VEVENT
DTSTART;TZID=America/New_York:20241106T140000
DTEND;TZID=America/New_York:20241106T150000
DTSTAMP:20260423T200224
CREATED:20241014T134341Z
LAST-MODIFIED:20241021T164720Z
UID:2007-1730901600-1730905200@healthyoxfordarea.org
SUMMARY:Community Listening Session at Kiki the Barber + The Style Collective
DESCRIPTION:Join the Coalition for a Healthy Community- Oxford Area for an open forum where your voice matters! Share your thoughts\, experiences\, and ideas to help us build a healthier\, stronger community. \nWhen: November 6th at 2pm \nWhere: Kiki the Barber + The Style Collective. 118 South Locust Street\, Oxford\, Ohio 45056 \n 
URL:https://healthyoxfordarea.org/events/community-listening-session-at-kiki-the-barber-the-style-collective/
END:VEVENT
BEGIN:VEVENT
DTSTART;TZID=America/New_York:20241106T100000
DTEND;TZID=America/New_York:20241106T110000
DTSTAMP:20260423T200224
CREATED:20241021T165043Z
LAST-MODIFIED:20241021T165105Z
UID:2020-1730887200-1730890800@healthyoxfordarea.org
SUMMARY:Reily Township Listening Session @ Reily Twp. Community Center
DESCRIPTION:Join the Coalition for a Healthy Community- Oxford Area for an open forum where your voice matters! Share your thoughts\, experiences\, and ideas to help us build a healthier\, stronger community. \nWhen: November 6th at 10am \nWhere: Reily Township Community Center. 6061 Reily Millville Road\, Oxford\, Ohio 45056
URL:https://healthyoxfordarea.org/events/reily-township-listening-session/
END:VEVENT
BEGIN:VEVENT
DTSTART;TZID=America/New_York:20241106T031500
DTEND;TZID=America/New_York:20241106T160000
DTSTAMP:20260423T200224
CREATED:20241031T163412Z
LAST-MODIFIED:20241031T163412Z
UID:2036-1730862900-1730908800@healthyoxfordarea.org
SUMMARY:Free Yoga at Kramer Elementary
DESCRIPTION:You’re invited! Join us for yoga this coming Wednesday\, November 6th at Kramer Elementary School at 3:15pm. New to yoga? This is a fantastic way to begin! Everyone is welcome to this FREE class!
URL:https://healthyoxfordarea.org/events/free-yoga-at-kramer-elementary/
END:VEVENT
BEGIN:VEVENT
DTSTART;TZID=America/New_York:20241105T090000
DTEND;TZID=America/New_York:20241105T113000
DTSTAMP:20260423T200224
CREATED:20240823T163322Z
LAST-MODIFIED:20240823T163322Z
UID:1886-1730797200-1730806200@healthyoxfordarea.org
SUMMARY:Reily Township Good Neighbors-Bluebird Coffee Klatch
DESCRIPTION:Free coffee + Conversation every Tuesday at the Reily Township Community Center\, beginning October 1st\, from 9-11:30 am.  Follow Reily Township Good Neighbors Group on Facebook for more information.
URL:https://healthyoxfordarea.org/events/reily-township-good-neighbors-bluebird-coffee-klatch-3/
END:VEVENT
BEGIN:VEVENT
DTSTART;TZID=America/New_York:20241029T090000
DTEND;TZID=America/New_York:20241029T113000
DTSTAMP:20260423T200224
CREATED:20240823T162930Z
LAST-MODIFIED:20240823T162930Z
UID:1884-1730192400-1730201400@healthyoxfordarea.org
SUMMARY:Reily Township Good Neighbors-Bluebird Coffee Klatch
DESCRIPTION:Free coffee + Conversation every Tuesday at the Reily Township Community Center\, beginning October 1st\, from 9-11:30 am.  Follow Reily Township Good Neighbors Group on Facebook for more information.
URL:https://healthyoxfordarea.org/events/reily-township-good-neighbors-bluebird-coffee-klatch-2/
END:VEVENT
BEGIN:VEVENT
DTSTART;TZID=America/New_York:20241027T163000
DTEND;TZID=America/New_York:20241027T183000
DTSTAMP:20260423T200224
CREATED:20240522T163509Z
LAST-MODIFIED:20240522T163509Z
UID:1699-1730046600-1730053800@healthyoxfordarea.org
SUMMARY:Hanover Township Haunted Harvest
DESCRIPTION:Join in on the family fun! Located at Hanover Township Park.
URL:https://healthyoxfordarea.org/events/hanover-township-haunted-harvest/
END:VEVENT
BEGIN:VEVENT
DTSTART;TZID=America/New_York:20241026T100000
DTEND;TZID=America/New_York:20241026T140000
DTSTAMP:20260423T200224
CREATED:20240814T163027Z
LAST-MODIFIED:20240814T163027Z
UID:1855-1729936800-1729951200@healthyoxfordarea.org
SUMMARY:Medication Take Back Day
DESCRIPTION:
URL:https://healthyoxfordarea.org/events/medication-take-back-day/
END:VEVENT
BEGIN:VEVENT
DTSTART;TZID=America/New_York:20241026T090000
DTEND;TZID=America/New_York:20241026T100000
DTSTAMP:20260423T200224
CREATED:20240521T160752Z
LAST-MODIFIED:20240521T160752Z
UID:1614-1729933200-1729936800@healthyoxfordarea.org
SUMMARY:Last Yoga in the Park-Uptown Oxford
DESCRIPTION:FREE Yoga in the Park! Starting on Saturday\, June 8th and continues through October 9am-10am.  Located in the Oxford Uptown Park. All ages are welcome! \nNote: On August 10th & September 21st\, Yoga in the Park will be held at Lewis Place\, home of Miami University President Greg & Dr. Renate Crawford \n*Limited number of yoga mats available or you can always bring a towels \n*No Yoga if Raining \n\nDownload (PDF\, 3.06MB)
URL:https://healthyoxfordarea.org/events/last-yoga-in-the-park-uptown-oxford/
END:VEVENT
BEGIN:VEVENT
DTSTART;TZID=America/New_York:20241023T170000
DTEND;TZID=America/New_York:20241023T180000
DTSTAMP:20260423T200224
CREATED:20240521T191605Z
LAST-MODIFIED:20240823T185020Z
UID:1686-1729702800-1729706400@healthyoxfordarea.org
SUMMARY:Wellness Wednesday-H+R Block
DESCRIPTION:Free Community Resources-Health + Safety and Community Information at H+R Block. 5217 College Corner Pike. TOPSS Food Pantry and Health and Safety/Hygiene items will be available. See our monthly locations on the flyer below. \nhttps://healthyoxfordarea.org/wp-content/uploads/2024/05/wed.jpg
URL:https://healthyoxfordarea.org/events/free-community-resources-hr-block-5/
END:VEVENT
BEGIN:VEVENT
DTSTART;TZID=America/New_York:20241023T153000
DTEND;TZID=America/New_York:20241023T163000
DTSTAMP:20260423T200224
CREATED:20240521T190751Z
LAST-MODIFIED:20240823T185049Z
UID:1676-1729697400-1729701000@healthyoxfordarea.org
SUMMARY:Wellness Wednesday- Kramer Elementary
DESCRIPTION:Free Community Resources-Health + Safety and Community Information at Kramer Elementary. TOPSS Food Pantry and Health and Safety/Hygiene items will be available. See our monthly locations on the flyer below. \nhttps://healthyoxfordarea.org/wp-content/uploads/2024/05/wed.jpg
URL:https://healthyoxfordarea.org/events/free-community-resources-kramer-elementary-5/
END:VEVENT
BEGIN:VEVENT
DTSTART;TZID=America/New_York:20241022T090000
DTEND;TZID=America/New_York:20241022T113000
DTSTAMP:20260423T200224
CREATED:20240823T162840Z
LAST-MODIFIED:20240823T163357Z
UID:1882-1729587600-1729596600@healthyoxfordarea.org
SUMMARY:Reily Township Good Neighbors-Bluebird Coffee Klatch
DESCRIPTION:Free coffee + Conversation every Tuesday at the Reily Township Community Center\, beginning October 1st\, from 9-11:30 am.  Follow Reily Township Good Neighbors Group on Facebook for more information.
URL:https://healthyoxfordarea.org/events/reily-township-good-neighbors-blue-bird-coffee-klatch/
END:VEVENT
BEGIN:VEVENT
DTSTART;TZID=America/New_York:20241019T090000
DTEND;TZID=America/New_York:20241019T100000
DTSTAMP:20260423T200224
CREATED:20240521T160651Z
LAST-MODIFIED:20240521T160651Z
UID:1612-1729328400-1729332000@healthyoxfordarea.org
SUMMARY:Yoga in the Park-Uptown Oxford
DESCRIPTION:FREE Yoga in the Park! Starting on Saturday\, June 8th and continues through October 9am-10am.  Located in the Oxford Uptown Park. All ages are welcome! \nNote: On August 10th & September 21st\, Yoga in the Park will be held at Lewis Place\, home of Miami University President Greg & Dr. Renate Crawford \n*Limited number of yoga mats available or you can always bring a towels \n*No Yoga if Raining \n\nDownload (PDF\, 3.06MB)
URL:https://healthyoxfordarea.org/events/yoga-in-the-park-uptown-oxford-18/
END:VEVENT
BEGIN:VEVENT
DTSTART;TZID=America/New_York:20241016T170000
DTEND;TZID=America/New_York:20241016T180000
DTSTAMP:20260423T200224
CREATED:20240521T184020Z
LAST-MODIFIED:20240823T185118Z
UID:1653-1729098000-1729101600@healthyoxfordarea.org
SUMMARY:Wellness Wednesday-Somerville Community Church
DESCRIPTION:Free Community Resources-Health + Safety and Community Information at the Somerville Community Church. TOPSS Food Pantry and First Aid/Hygiene will be available. See our monthly locations on the flyer below. \nhttps://healthyoxfordarea.org/wp-content/uploads/2024/05/wed.jpg
URL:https://healthyoxfordarea.org/events/free-community-resources-somerville-community-church-5/
END:VEVENT
BEGIN:VEVENT
DTSTART;TZID=America/New_York:20241016T153000
DTEND;TZID=America/New_York:20241016T163000
DTSTAMP:20260423T200224
CREATED:20240521T164013Z
LAST-MODIFIED:20240823T185159Z
UID:1636-1729092600-1729096200@healthyoxfordarea.org
SUMMARY:Wellness Wednesday-Milford Twp. Community Center
DESCRIPTION:Free Community Resources-Health + Safety and Community Information in the parking lot at the Milford Township Community Center. TOPSS Food Pantry and First Aid/Hygiene will be available. \nLocation: 5113 Huston Road. Collinsville\, OH 45004. See our monthly locations on the flyer below. \nhttps://healthyoxfordarea.org/wp-content/uploads/2024/05/wed.jpg
URL:https://healthyoxfordarea.org/events/free-community-resources-milford-twp-community-center-4/
END:VEVENT
BEGIN:VEVENT
DTSTART;TZID=America/New_York:20241015T090000
DTEND;TZID=America/New_York:20241015T113000
DTSTAMP:20260423T200224
CREATED:20240823T162641Z
LAST-MODIFIED:20240823T163902Z
UID:1880-1728982800-1728991800@healthyoxfordarea.org
SUMMARY:Reily Township Good Neighbors-Bluebird Coffee Klatch
DESCRIPTION:Free coffee + Conversation every Tuesday at the Reily Township Community Center\, beginning October 1st\, from 9-11:30 am.  Follow Reily Township Good Neighbors Group on Facebook for more information.
URL:https://healthyoxfordarea.org/events/reily-township-good-neighbors-coffee-klatch/
END:VEVENT
BEGIN:VEVENT
DTSTART;TZID=America/New_York:20241014T080000
DTEND;TZID=America/New_York:20241014T170000
DTSTAMP:20260423T200224
CREATED:20241014T163210Z
LAST-MODIFIED:20241014T163210Z
UID:2010-1728892800-1728925200@healthyoxfordarea.org
SUMMARY:Milford Township Listening Session
DESCRIPTION:Join the Coalition for a Healthy Community- Oxford Area for an open forum where your voice matters! Share your thoughts\, experiences\, and ideas to help us build a healthier\, stronger community. \nWhen: Wednesday\, November 20th 4-5pm \nWhere: Milford Twp. Community Center. 5113 Huston Rd\, Milford Township\, OH 45150
URL:https://healthyoxfordarea.org/events/milford-township-listening-session/
END:VEVENT
BEGIN:VEVENT
DTSTART;TZID=America/New_York:20241012T090000
DTEND;TZID=America/New_York:20241012T100000
DTSTAMP:20260423T200224
CREATED:20240521T160424Z
LAST-MODIFIED:20240521T160424Z
UID:1608-1728723600-1728727200@healthyoxfordarea.org
SUMMARY:Yoga in the Park-Oxford Area
DESCRIPTION:FREE Yoga in the Park! Starting on Saturday\, June 8th and continues through October 9am-10am.  Located in the Oxford Uptown Park. All ages are welcome! \nNote: On August 10th & September 21st\, Yoga in the Park will be held at Lewis Place\, home of Miami University President Greg & Dr. Renate Crawford \n*Limited number of yoga mats available or you can always bring a towels \n*No Yoga if Raining \n\nDownload (PDF\, 3.06MB)
URL:https://healthyoxfordarea.org/events/yoga-in-the-park-oxford-area/
END:VEVENT
BEGIN:VEVENT
DTSTART;TZID=America/New_York:20241009T153000
DTEND;TZID=America/New_York:20241009T163000
DTSTAMP:20260423T200224
CREATED:20240521T162806Z
LAST-MODIFIED:20240823T185236Z
UID:1626-1728487800-1728491400@healthyoxfordarea.org
SUMMARY:Wellness Wednesday-Darrtown
DESCRIPTION:Free Community Resources-Health + Safety and Community Information in the parking lot across from Don’s Carryout. TOPSS Food Pantry and Health and Safety/Hygiene items will be available. See our monthly locations on the flyer below. \nhttps://healthyoxfordarea.org/wp-content/uploads/2024/05/wed.jpg
URL:https://healthyoxfordarea.org/events/free-community-resources-darrtown-5/
END:VEVENT
BEGIN:VEVENT
DTSTART;TZID=America/New_York:20241008T090000
DTEND;TZID=America/New_York:20241008T233000
DTSTAMP:20260423T200224
CREATED:20240823T162523Z
LAST-MODIFIED:20240823T163954Z
UID:1878-1728378000-1728430200@healthyoxfordarea.org
SUMMARY:Reily Township-Bluebird Coffee Klatch
DESCRIPTION:Free coffee + Conversation every Tuesday at the Reily Township Community Center\, beginning October 1st\, from 9-11:30 am.  Follow Reily Township Good Neighbors Group on Facebook for more information.
URL:https://healthyoxfordarea.org/events/reily-township-blue-bird-coffee-klatch/
END:VEVENT
BEGIN:VEVENT
DTSTART;TZID=America/New_York:20241005T090000
DTEND;TZID=America/New_York:20241005T100000
DTSTAMP:20260423T200224
CREATED:20240521T160326Z
LAST-MODIFIED:20240521T160326Z
UID:1606-1728118800-1728122400@healthyoxfordarea.org
SUMMARY:Yoga in the Park-Uptown Oxford
DESCRIPTION:FREE Yoga in the Park! Starting on Saturday\, June 8th and continues through October 9am-10am.  Located in the Oxford Uptown Park. All ages are welcome! \nNote: On August 10th & September 21st\, Yoga in the Park will be held at Lewis Place\, home of Miami University President Greg & Dr. Renate Crawford \n*Limited number of yoga mats available or you can always bring a towels \n*No Yoga if Raining \n\nDownload (PDF\, 3.06MB)
URL:https://healthyoxfordarea.org/events/yoga-in-the-park-uptown-oxford-17/
END:VEVENT
BEGIN:VEVENT
DTSTART;TZID=America/New_York:20241002T170000
DTEND;TZID=America/New_York:20241002T180000
DTSTAMP:20260423T200224
CREATED:20240618T212221Z
LAST-MODIFIED:20240823T184854Z
UID:1789-1727888400-1727892000@healthyoxfordarea.org
SUMMARY:Wellness Wednesday-Reily Twp.
DESCRIPTION:Want to learn more? View the flyer here.
URL:https://healthyoxfordarea.org/events/free-community-resources-reily-twp-3/
END:VEVENT
BEGIN:VEVENT
DTSTART;TZID=America/New_York:20241002T153000
DTEND;TZID=America/New_York:20241002T163000
DTSTAMP:20260423T200224
CREATED:20240618T212155Z
LAST-MODIFIED:20240823T183939Z
UID:1787-1727883000-1727886600@healthyoxfordarea.org
SUMMARY:Wellness Wednesday-Hanover Twp.
DESCRIPTION:
URL:https://healthyoxfordarea.org/events/free-community-resources-hanover-twp-3/
END:VEVENT
BEGIN:VEVENT
DTSTART;TZID=America/New_York:20241001T090000
DTEND;TZID=America/New_York:20241001T113000
DTSTAMP:20260423T200224
CREATED:20240823T162157Z
LAST-MODIFIED:20240823T162157Z
UID:1872-1727773200-1727782200@healthyoxfordarea.org
SUMMARY:Reily Township Good Neighbors- Bluebird Coffee Klatch
DESCRIPTION:Free coffee + Conversation every Tuesday at the Reily Township Community Center\, beginning October 1st\, from 9-11:30 am.  Follow Reily Township Good Neighbors Group on Facebook for more information.
URL:https://healthyoxfordarea.org/events/reily-township-good-neighbors-bluebird-coffee-klatch/
END:VEVENT
BEGIN:VEVENT
DTSTART;TZID=America/New_York:20240929T003000
DTEND;TZID=America/New_York:20240929T170000
DTSTAMP:20260423T200224
CREATED:20240815T153059Z
LAST-MODIFIED:20240904T125100Z
UID:1865-1727569800-1727629200@healthyoxfordarea.org
SUMMARY:Out of the Darkness Community Walk
DESCRIPTION:Oxford-Miami University Walk Information\nDate: 09/29/2024\nOn-Site Registration Starts: 12:30 pm\nProgram Starts: 1:00 pm\nLocation: Uptown Park\, Oxford\, OH\nContact: Jennifer Young (she/her) & Katelyn Howell (she/her)\nContact Phone: 513-529-4634\nContact Email: youngj3@miamioh.edu & howellk4@miamioh.edu \nOut of the Darkness Community Walks\nThe Community Walks\, held in hundreds of communities across the country\, are the core of the Out of the Darkness movement\, which began in 2004. These events give people the courage to open up about their own connections to the cause\, and a platform to create a culture that’s smarter about mental health. Friends\, family members\, neighbors and coworkers walk side-by-side\, supporting each other and in memory of those we’ve lost. \nIt’s more important than ever for us to stay connected. Register Today and help save lives and bring hope to those affected by suicide.
URL:https://healthyoxfordarea.org/events/out-of-the-darkness-community-walk/
END:VEVENT
BEGIN:VEVENT
DTSTART;TZID=America/New_York:20240928T090000
DTEND;TZID=America/New_York:20240928T100000
DTSTAMP:20260423T200224
CREATED:20240521T160226Z
LAST-MODIFIED:20240521T160226Z
UID:1604-1727514000-1727517600@healthyoxfordarea.org
SUMMARY:Yoga in the Park-Uptown Oxford
DESCRIPTION:FREE Yoga in the Park! Starting on Saturday\, June 8th and continues through October 9am-10am.  Located in the Oxford Uptown Park. All ages are welcome! \nNote: On August 10th & September 21st\, Yoga in the Park will be held at Lewis Place\, home of Miami University President Greg & Dr. Renate Crawford \n*Limited number of yoga mats available or you can always bring a towels \n*No Yoga if Raining \n\nDownload (PDF\, 3.06MB)
URL:https://healthyoxfordarea.org/events/yoga-in-the-park-uptown-oxford-16/
END:VEVENT
BEGIN:VEVENT
DTSTART;TZID=America/New_York:20240925T170000
DTEND;TZID=America/New_York:20240925T180000
DTSTAMP:20260423T200224
CREATED:20240521T191504Z
LAST-MODIFIED:20240823T183923Z
UID:1684-1727283600-1727287200@healthyoxfordarea.org
SUMMARY:Wellness Wednesday-H+R Block
DESCRIPTION:Free Community Resources-Health + Safety and Community Information at H+R Block. 5217 College Corner Pike. TOPSS Food Pantry and Health and Safety/Hygiene items will be available. See our monthly locations on the flyer below. \nhttps://healthyoxfordarea.org/wp-content/uploads/2024/05/wed.jpg
URL:https://healthyoxfordarea.org/events/free-community-resources-hr-block-4/
END:VEVENT
BEGIN:VEVENT
DTSTART;TZID=America/New_York:20240925T153000
DTEND;TZID=America/New_York:20240925T163000
DTSTAMP:20260423T200224
CREATED:20240521T190649Z
LAST-MODIFIED:20240823T183809Z
UID:1674-1727278200-1727281800@healthyoxfordarea.org
SUMMARY:Wellness Wednesday-Kramer Elementary
DESCRIPTION:Free Community Resources-Health + Safety and Community Information at Kramer Elementary. TOPSS Food Pantry and Health and Safety/Hygiene items will be available. See our monthly locations on the flyer below. \nhttps://healthyoxfordarea.org/wp-content/uploads/2024/05/wed.jpg
URL:https://healthyoxfordarea.org/events/free-community-resources-kramer-elementary-4/
END:VEVENT
BEGIN:VEVENT
DTSTART;TZID=America/New_York:20240925T114500
DTEND;TZID=America/New_York:20240925T124500
DTSTAMP:20260423T200224
CREATED:20240830T141958Z
LAST-MODIFIED:20240830T142851Z
UID:1931-1727264700-1727268300@healthyoxfordarea.org
SUMMARY:Lunch + Learn: Meeting People Where They Are Across the Health Continuum
DESCRIPTION:All are welcome to learn how the HOPE Cooperative is working in partnership across the entire Talawanda School District\, including our rural communities\, to increase access to wellness and decrease barriers. We all play a role in building a healthier community—come learn how you can help! \nEvent Details: \nWednesday\, September 25\, 2024. Gather at 11:45 a.m. Program from 12:00-12:45 p.m. \nHosted By: \nOxford United Methodist Women. Fellowship Hall. 14 N. Poplar Street\, Oxford\, Ohio 45056 \n 
URL:https://healthyoxfordarea.org/events/lunch-learn-meeting-people-where-they-are-across-the-health-continuum/
END:VEVENT
BEGIN:VEVENT
DTSTART;TZID=America/New_York:20240921T090000
DTEND;TZID=America/New_York:20240921T130000
DTSTAMP:20260423T200224
CREATED:20240906T202132Z
LAST-MODIFIED:20240906T202132Z
UID:1957-1726909200-1726923600@healthyoxfordarea.org
SUMMARY:Hike-A-Thon
DESCRIPTION:Save the Date! 🌿🏞️ Hike-A-Thon\n📅 Saturday\, September 21st\n🕘 9 AM – 1 PM\n📍 DeWitt Log Homestead Trailhead\, 4831 Oxford-Trenton Road \nJoin us for a fun-filled Hike-A-Thon celebrating the outdoors and the progress of Oxford’s and Miami’s Trail system! 🚶‍♂️🚶‍♀️ This family-friendly event is also pet-friendly (with a leash 🐕)\, and wheelchair accessible. \nFree T-Shirts for participants while supplies last! We’ve got sizes for adults and kids\, so come early!For more details\, visit: oxfordareatrails.org/hike-a-thon
URL:https://healthyoxfordarea.org/events/hike-a-thon-3/
END:VEVENT
END:VCALENDAR