BEGIN:VCALENDAR
VERSION:2.0
PRODID:-//Coalition for a Healthy Community - Oxford Area - ECPv6.15.20//NONSGML v1.0//EN
CALSCALE:GREGORIAN
METHOD:PUBLISH
X-ORIGINAL-URL:https://healthyoxfordarea.org
X-WR-CALDESC:Events for Coalition for a Healthy Community - Oxford Area
REFRESH-INTERVAL;VALUE=DURATION:PT1H
X-Robots-Tag:noindex
X-PUBLISHED-TTL:PT1H
BEGIN:VTIMEZONE
TZID:America/New_York
BEGIN:DAYLIGHT
TZOFFSETFROM:-0500
TZOFFSETTO:-0400
TZNAME:EDT
DTSTART:20230312T070000
END:DAYLIGHT
BEGIN:STANDARD
TZOFFSETFROM:-0400
TZOFFSETTO:-0500
TZNAME:EST
DTSTART:20231105T060000
END:STANDARD
BEGIN:DAYLIGHT
TZOFFSETFROM:-0500
TZOFFSETTO:-0400
TZNAME:EDT
DTSTART:20240310T070000
END:DAYLIGHT
BEGIN:STANDARD
TZOFFSETFROM:-0400
TZOFFSETTO:-0500
TZNAME:EST
DTSTART:20241103T060000
END:STANDARD
BEGIN:DAYLIGHT
TZOFFSETFROM:-0500
TZOFFSETTO:-0400
TZNAME:EDT
DTSTART:20250309T070000
END:DAYLIGHT
BEGIN:STANDARD
TZOFFSETFROM:-0400
TZOFFSETTO:-0500
TZNAME:EST
DTSTART:20251102T060000
END:STANDARD
BEGIN:DAYLIGHT
TZOFFSETFROM:-0500
TZOFFSETTO:-0400
TZNAME:EDT
DTSTART:20260308T070000
END:DAYLIGHT
BEGIN:STANDARD
TZOFFSETFROM:-0400
TZOFFSETTO:-0500
TZNAME:EST
DTSTART:20261101T060000
END:STANDARD
END:VTIMEZONE
BEGIN:VEVENT
DTSTART;TZID=America/New_York:20251001T150000
DTEND;TZID=America/New_York:20251001T170000
DTSTAMP:20260423T153314
CREATED:20251001T151851Z
LAST-MODIFIED:20251001T151851Z
UID:2604-1759330800-1759338000@healthyoxfordarea.org
SUMMARY:Somerville Outreach
DESCRIPTION:Check out the Coalition’s resources\, pick up personal care iterms\, First-Aid materials\, and a bag of groceries from TOPSS\, and connect with others as we build a stronger\, healthier\, community together! \nToday\, we will be painting a pumpkin on a canvas!
URL:https://healthyoxfordarea.org/events/somerville-outreach/
LOCATION:Somerville Community Church\, 207 Walnut St\, Somerville\, OH\, 45064
END:VEVENT
BEGIN:VEVENT
DTSTART;TZID=America/New_York:20250927T090000
DTEND;TZID=America/New_York:20250927T100000
DTSTAMP:20260423T153314
CREATED:20250714T222309Z
LAST-MODIFIED:20250714T222309Z
UID:2363-1758963600-1758967200@healthyoxfordarea.org
SUMMARY:Yoga In The Park
DESCRIPTION:Join us at the Oxford Uptown Park for community yoga! It is FREE and all ages are welcome! There are a limited number of yoga mats\, so you may want to bring your own! Check our Facebook page for cancellations and updates!
URL:https://healthyoxfordarea.org/events/yoga-in-the-park-4-2-2-3-2-2-2-2-2/
LOCATION:Oxford Uptown Park\, 2 E High St\, Oxford\, 45056\, United States
END:VEVENT
BEGIN:VEVENT
DTSTART;TZID=America/New_York:20250920T090000
DTEND;TZID=America/New_York:20250920T100000
DTSTAMP:20260423T153314
CREATED:20250714T222248Z
LAST-MODIFIED:20250714T222248Z
UID:2361-1758358800-1758362400@healthyoxfordarea.org
SUMMARY:Yoga In The Park
DESCRIPTION:Join us at the Oxford Uptown Park for community yoga! It is FREE and all ages are welcome! There are a limited number of yoga mats\, so you may want to bring your own! Check our Facebook page for cancellations and updates!
URL:https://healthyoxfordarea.org/events/yoga-in-the-park-4-2-2-3-2-2-2-2/
LOCATION:Oxford Uptown Park\, 2 E High St\, Oxford\, 45056\, United States
END:VEVENT
BEGIN:VEVENT
DTSTART;TZID=America/New_York:20250913T090000
DTEND;TZID=America/New_York:20250913T100000
DTSTAMP:20260423T153314
CREATED:20250714T222223Z
LAST-MODIFIED:20250714T222223Z
UID:2359-1757754000-1757757600@healthyoxfordarea.org
SUMMARY:Yoga In The Park
DESCRIPTION:Join us at the Oxford Uptown Park for community yoga! It is FREE and all ages are welcome! There are a limited number of yoga mats\, so you may want to bring your own! Check our Facebook page for cancellations and updates!
URL:https://healthyoxfordarea.org/events/yoga-in-the-park-4-2-2-3-2-2-2/
LOCATION:Oxford Uptown Park\, 2 E High St\, Oxford\, 45056\, United States
END:VEVENT
BEGIN:VEVENT
DTSTART;TZID=America/New_York:20250906T090000
DTEND;TZID=America/New_York:20250906T130000
DTSTAMP:20260423T153314
CREATED:20250715T184736Z
LAST-MODIFIED:20250715T184736Z
UID:2400-1757149200-1757163600@healthyoxfordarea.org
SUMMARY:Hike-a-Thon
DESCRIPTION:The Coalition will be at this year’s Hike-a-Thon\, celebrating the outdoors and the progress of Oxford’s and Miami’s Trail system! We will be promoting environmentally friendly ways to dispose of medication as well as handing out Ranger Rox Badges!
URL:https://healthyoxfordarea.org/events/hike-a-thon-4/
LOCATION:DeWitt Trailhead\, 4831 Oxford Trenton Road\, Oxford\, OH\, 45056\, United States
END:VEVENT
BEGIN:VEVENT
DTSTART;TZID=America/New_York:20250906T090000
DTEND;TZID=America/New_York:20250906T100000
DTSTAMP:20260423T153314
CREATED:20250714T222155Z
LAST-MODIFIED:20250714T222155Z
UID:2357-1757149200-1757152800@healthyoxfordarea.org
SUMMARY:Yoga In The Park
DESCRIPTION:Join us at the Oxford Uptown Park for community yoga! It is FREE and all ages are welcome! There are a limited number of yoga mats\, so you may want to bring your own! Check our Facebook page for cancellations and updates!
URL:https://healthyoxfordarea.org/events/yoga-in-the-park-4-2-2-3-2-2/
LOCATION:Oxford Uptown Park\, 2 E High St\, Oxford\, 45056\, United States
END:VEVENT
BEGIN:VEVENT
DTSTART;TZID=America/New_York:20250830T090000
DTEND;TZID=America/New_York:20250830T100000
DTSTAMP:20260423T153314
CREATED:20250714T221939Z
LAST-MODIFIED:20250714T221939Z
UID:2352-1756544400-1756548000@healthyoxfordarea.org
SUMMARY:Yoga In The Park
DESCRIPTION:Join us at the Oxford Uptown Park for community yoga! It is FREE and all ages are welcome! There are a limited number of yoga mats\, so you may want to bring your own! Check our Facebook page for cancellations and updates!
URL:https://healthyoxfordarea.org/events/yoga-in-the-park-4-2-2-3-2/
LOCATION:Oxford Uptown Park\, 2 E High St\, Oxford\, 45056\, United States
END:VEVENT
BEGIN:VEVENT
DTSTART;TZID=America/New_York:20250827T170000
DTEND;TZID=America/New_York:20250827T183000
DTSTAMP:20260423T153314
CREATED:20250714T223956Z
LAST-MODIFIED:20250714T223956Z
UID:2395-1756314000-1756319400@healthyoxfordarea.org
SUMMARY:Community Dinner
DESCRIPTION:Join us at the community dinner! The Coalition will have a table with free community resources available.
URL:https://healthyoxfordarea.org/events/community-dinner-2-2-2-2-2-2/
LOCATION:Holy Trinity Episcopal Church\, 25 E Walnut St\, Oxford\, OH\, 45056\, United States
END:VEVENT
BEGIN:VEVENT
DTSTART;TZID=America/New_York:20250827T150000
DTEND;TZID=America/New_York:20250827T163000
DTSTAMP:20260423T153314
CREATED:20250715T185859Z
LAST-MODIFIED:20250715T185859Z
UID:2418-1756306800-1756312200@healthyoxfordarea.org
SUMMARY:Outreach in Somerville
DESCRIPTION:We will be providing free community resources and information at the Somerville Community Church! A nurse from the Regional Harm Reduction Collaborative will be alongside of us providing First Aid and Hygiene resources. \n 
URL:https://healthyoxfordarea.org/events/outreach-in-somerville-2-2-2-2-2/
LOCATION:Somerville Community Church\, 207 Walnut St\, Somerville\, OH\, 45064
END:VEVENT
BEGIN:VEVENT
DTSTART;TZID=America/New_York:20250823T090000
DTEND;TZID=America/New_York:20250823T100000
DTSTAMP:20260423T153314
CREATED:20250714T223706Z
LAST-MODIFIED:20250714T223706Z
UID:2388-1755939600-1755943200@healthyoxfordarea.org
SUMMARY:Yoga In The Park
DESCRIPTION:Join us at the Oxford Uptown Park for community yoga! It is FREE and all ages are welcome! There are a limited number of yoga mats\, so you may want to bring your own! Check our Facebook page for cancellations and updates!
URL:https://healthyoxfordarea.org/events/yoga-in-the-park-4-2-2-3-2-3/
LOCATION:Oxford Uptown Park\, 2 E High St\, Oxford\, 45056\, United States
END:VEVENT
BEGIN:VEVENT
DTSTART;TZID=America/New_York:20250820T170000
DTEND;TZID=America/New_York:20250820T183000
DTSTAMP:20260423T153314
CREATED:20250714T223926Z
LAST-MODIFIED:20250714T223926Z
UID:2393-1755709200-1755714600@healthyoxfordarea.org
SUMMARY:Community Dinner
DESCRIPTION:Join us at the community dinner! The Coalition will have a table with free community resources available.
URL:https://healthyoxfordarea.org/events/community-dinner-2-2-2-2-2/
LOCATION:St. Mary Roman Catholic Parish\, 111 E High St\, Oxford\, OH\, 45056\, United States
END:VEVENT
BEGIN:VEVENT
DTSTART;TZID=America/New_York:20250820T150000
DTEND;TZID=America/New_York:20250820T163000
DTSTAMP:20260423T153314
CREATED:20250715T185835Z
LAST-MODIFIED:20250715T185835Z
UID:2416-1755702000-1755707400@healthyoxfordarea.org
SUMMARY:Outreach in Somerville
DESCRIPTION:We will be providing free community resources and information at the Somerville Community Church! A nurse from the Regional Harm Reduction Collaborative will be alongside of us providing First Aid and Hygiene resources. \n 
URL:https://healthyoxfordarea.org/events/outreach-in-somerville-2-2-2-2/
LOCATION:Somerville Community Church\, 207 Walnut St\, Somerville\, OH\, 45064
END:VEVENT
BEGIN:VEVENT
DTSTART;TZID=America/New_York:20250816T090000
DTEND;TZID=America/New_York:20250816T100000
DTSTAMP:20260423T153314
CREATED:20250714T221907Z
LAST-MODIFIED:20250714T222113Z
UID:2350-1755334800-1755338400@healthyoxfordarea.org
SUMMARY:Yoga In The Park
DESCRIPTION:Join us at the Lewis Place\, home of Miami University President Gregory Crawford and Dr. Renate Crawford\, for community yoga! It is FREE and all ages are welcome! There are a limited number of yoga mats\, so you may want to bring your own! Check our Facebook page for cancellations and updates!
URL:https://healthyoxfordarea.org/events/yoga-in-the-park-4-2-2-3/
LOCATION:Lewis Place\, 310 E High St\, Oxford\, OH\, 45056\, United States
END:VEVENT
BEGIN:VEVENT
DTSTART;TZID=America/New_York:20250813T170000
DTEND;TZID=America/New_York:20250813T183000
DTSTAMP:20260423T153314
CREATED:20250714T223435Z
LAST-MODIFIED:20250714T223435Z
UID:2385-1755104400-1755109800@healthyoxfordarea.org
SUMMARY:Community Dinner
DESCRIPTION:Join us at the community dinner! The Coalition will have a table with free community resources available.
URL:https://healthyoxfordarea.org/events/community-dinner-2-2-2-2/
LOCATION:Faith Lutheran Church\, 420 S Campus Ave\, Oxford\, OH\, 45056\, United States
END:VEVENT
BEGIN:VEVENT
DTSTART;TZID=America/New_York:20250813T150000
DTEND;TZID=America/New_York:20250813T163000
DTSTAMP:20260423T153314
CREATED:20250715T185808Z
LAST-MODIFIED:20250715T185808Z
UID:2414-1755097200-1755102600@healthyoxfordarea.org
SUMMARY:Outreach in Somerville
DESCRIPTION:We will be providing free community resources and information at the Somerville Community Church! A nurse from the Regional Harm Reduction Collaborative will be alongside of us providing First Aid and Hygiene resources. \n 
URL:https://healthyoxfordarea.org/events/outreach-in-somerville-2-2-2/
LOCATION:Somerville Community Church\, 207 Walnut St\, Somerville\, OH\, 45064
END:VEVENT
BEGIN:VEVENT
DTSTART;TZID=America/New_York:20250810T173000
DTEND;TZID=America/New_York:20250810T203000
DTSTAMP:20260423T153314
CREATED:20250715T184235Z
LAST-MODIFIED:20250805T134557Z
UID:2397-1754847000-1754857800@healthyoxfordarea.org
SUMMARY:Back to School Bash
DESCRIPTION:The Coalition will be at this year’s Back to School Bash with Rox the Fox! We will be handing out free resources for children and families!
URL:https://healthyoxfordarea.org/events/back-to-school-bash-2/
LOCATION:Oxford Aquatic Center\, 701 Kay Rench Dr\, Oxford\, OH\, 45056\, United States
END:VEVENT
BEGIN:VEVENT
DTSTART;TZID=America/New_York:20250809T090000
DTEND;TZID=America/New_York:20250809T100000
DTSTAMP:20260423T153314
CREATED:20250714T221819Z
LAST-MODIFIED:20250714T221819Z
UID:2345-1754730000-1754733600@healthyoxfordarea.org
SUMMARY:Yoga In The Park
DESCRIPTION:Join us at the Oxford Uptown Park for community yoga! It is FREE and all ages are welcome! There are a limited number of yoga mats\, so you may want to bring your own! Check our Facebook page for cancellations and updates!
URL:https://healthyoxfordarea.org/events/yoga-in-the-park-4-2-2/
LOCATION:Oxford Uptown Park\, 2 E High St\, Oxford\, 45056\, United States
END:VEVENT
BEGIN:VEVENT
DTSTART;TZID=America/New_York:20250806T170000
DTEND;TZID=America/New_York:20250806T183000
DTSTAMP:20260423T153314
CREATED:20250714T223321Z
LAST-MODIFIED:20250714T223756Z
UID:2382-1754499600-1754505000@healthyoxfordarea.org
SUMMARY:Community Dinner
DESCRIPTION:Join us at the community dinner! The Coalition will have a table with free community resources available.
URL:https://healthyoxfordarea.org/events/community-dinner-2-2-2/
LOCATION:Oxford United Methodist Church\, 14 N Poplar St\, Oxford\, OH\, 45056\, United States
END:VEVENT
BEGIN:VEVENT
DTSTART;TZID=America/New_York:20250806T150000
DTEND;TZID=America/New_York:20250806T163000
DTSTAMP:20260423T153315
CREATED:20250715T185741Z
LAST-MODIFIED:20250715T185741Z
UID:2411-1754492400-1754497800@healthyoxfordarea.org
SUMMARY:Outreach in Somerville
DESCRIPTION:We will be providing free community resources and information at the Somerville Community Church! A nurse from the Regional Harm Reduction Collaborative will be alongside of us providing First Aid and Hygiene resources. \n 
URL:https://healthyoxfordarea.org/events/outreach-in-somerville-2-2/
LOCATION:Somerville Community Church\, 207 Walnut St\, Somerville\, OH\, 45064
END:VEVENT
BEGIN:VEVENT
DTSTART;TZID=America/New_York:20250802T090000
DTEND;TZID=America/New_York:20250802T100000
DTSTAMP:20260423T153315
CREATED:20250714T221740Z
LAST-MODIFIED:20250714T221740Z
UID:2342-1754125200-1754128800@healthyoxfordarea.org
SUMMARY:Yoga In The Park
DESCRIPTION:Join us at the Oxford Uptown Park for community yoga! It is FREE and all ages are welcome! There are a limited number of yoga mats\, so you may want to bring your own! Check our Facebook page for cancellations and updates!
URL:https://healthyoxfordarea.org/events/yoga-in-the-park-4-2/
LOCATION:Oxford Uptown Park\, 2 E High St\, Oxford\, 45056\, United States
END:VEVENT
BEGIN:VEVENT
DTSTART;TZID=America/New_York:20250730T170000
DTEND;TZID=America/New_York:20250730T183000
DTSTAMP:20260423T153315
CREATED:20250714T223205Z
LAST-MODIFIED:20250714T223738Z
UID:2379-1753894800-1753900200@healthyoxfordarea.org
SUMMARY:Community Dinner
DESCRIPTION:Join us at the community dinner! The Coalition will have a table with free community resources available.
URL:https://healthyoxfordarea.org/events/community-dinner-2-2/
LOCATION:Oxford Presbyterian Church\, 101 N Main St\, Oxford\, OH\, 45056\, United States
END:VEVENT
BEGIN:VEVENT
DTSTART;TZID=America/New_York:20250730T150000
DTEND;TZID=America/New_York:20250730T163000
DTSTAMP:20260423T153315
CREATED:20250715T185703Z
LAST-MODIFIED:20250715T185703Z
UID:2409-1753887600-1753893000@healthyoxfordarea.org
SUMMARY:Outreach in Somerville
DESCRIPTION:We will be providing free community resources and information at the Somerville Community Church! A nurse from the Regional Harm Reduction Collaborative will be alongside of us providing First Aid and Hygiene resources. \n 
URL:https://healthyoxfordarea.org/events/outreach-in-somerville-2/
LOCATION:Somerville Community Church\, 207 Walnut St\, Somerville\, OH\, 45064
END:VEVENT
BEGIN:VEVENT
DTSTART;TZID=America/New_York:20250726T090000
DTEND;TZID=America/New_York:20250726T100000
DTSTAMP:20260423T153315
CREATED:20250707T201250Z
LAST-MODIFIED:20250707T201250Z
UID:2229-1753520400-1753524000@healthyoxfordarea.org
SUMMARY:Yoga In The Park
DESCRIPTION:Join us at the Oxford Uptown Park for community yoga! It is FREE and all ages are welcome! There are a limited number of yoga mats\, so you may want to bring your own! Check our Facebook page for cancellations and updates!
URL:https://healthyoxfordarea.org/events/yoga-in-the-park-4/
LOCATION:Oxford Uptown Park\, 2 E High St\, Oxford\, 45056\, United States
END:VEVENT
BEGIN:VEVENT
DTSTART;TZID=America/New_York:20250723T170000
DTEND;TZID=America/New_York:20250723T183000
DTSTAMP:20260423T153315
CREATED:20250714T222954Z
LAST-MODIFIED:20250714T223724Z
UID:2376-1753290000-1753295400@healthyoxfordarea.org
SUMMARY:Community Dinner
DESCRIPTION:Join us at the community dinner! The Coalition will have a table with free community resources available.
URL:https://healthyoxfordarea.org/events/community-dinner-2/
LOCATION:Holy Trinity Episcopal Church\, 25 E Walnut St\, Oxford\, OH\, 45056\, United States
END:VEVENT
BEGIN:VEVENT
DTSTART;TZID=America/New_York:20250723T150000
DTEND;TZID=America/New_York:20250723T163000
DTSTAMP:20260423T153315
CREATED:20250715T185624Z
LAST-MODIFIED:20250715T185624Z
UID:2405-1753282800-1753288200@healthyoxfordarea.org
SUMMARY:Outreach in Somerville
DESCRIPTION:We will be providing free community resources and information at the Somerville Community Church! A nurse from the Regional Harm Reduction Collaborative will be alongside of us providing First Aid and Hygiene resources. \n 
URL:https://healthyoxfordarea.org/events/outreach-in-somerville/
LOCATION:Somerville Community Church\, 207 Walnut St\, Somerville\, OH\, 45064
END:VEVENT
BEGIN:VEVENT
DTSTART;TZID=America/New_York:20250719T090000
DTEND;TZID=America/New_York:20250719T100000
DTSTAMP:20260423T153315
CREATED:20250707T201107Z
LAST-MODIFIED:20250707T201107Z
UID:2226-1752915600-1752919200@healthyoxfordarea.org
SUMMARY:Yoga In The Park
DESCRIPTION:Join us at the Oxford Uptown Park for community yoga! It is FREE and all ages are welcome! There are a limited number of yoga mats\, so you may want to bring your own! Check our Facebook page for cancellations and updates!
URL:https://healthyoxfordarea.org/events/yoga-in-the-park-3/
LOCATION:Oxford Uptown Park\, 2 E High St\, Oxford\, 45056\, United States
END:VEVENT
BEGIN:VEVENT
DTSTART;TZID=America/New_York:20250716T170000
DTEND;TZID=America/New_York:20250716T183000
DTSTAMP:20260423T153315
CREATED:20250714T222841Z
LAST-MODIFIED:20250714T223038Z
UID:2373-1752685200-1752690600@healthyoxfordarea.org
SUMMARY:Community Dinner
DESCRIPTION:Join us at the community dinner! The Coalition will have a table with free community resources available.
URL:https://healthyoxfordarea.org/events/community-dinner/
LOCATION:St. Mary Roman Catholic Parish\, 111 E High St\, Oxford\, OH\, 45056\, United States
END:VEVENT
BEGIN:VEVENT
DTSTART;TZID=America/New_York:20250712T090000
DTEND;TZID=America/New_York:20250712T100000
DTSTAMP:20260423T153315
CREATED:20250707T200846Z
LAST-MODIFIED:20250707T200846Z
UID:2215-1752310800-1752314400@healthyoxfordarea.org
SUMMARY:Yoga In The Park
DESCRIPTION:Join us at the Oxford Uptown Park for community yoga! It is FREE and all ages are welcome! There are a limited number of yoga mats\, so you may want to bring your own! Check our Facebook page for cancellations and updates!
URL:https://healthyoxfordarea.org/events/yoga-in-the-park-2/
LOCATION:Oxford Uptown Park\, 2 E High St\, Oxford\, 45056\, United States
END:VEVENT
BEGIN:VEVENT
DTSTART;TZID=America/New_York:20241120T160000
DTEND;TZID=America/New_York:20241120T170000
DTSTAMP:20260423T153315
CREATED:20241021T165654Z
LAST-MODIFIED:20241021T165654Z
UID:2027-1732118400-1732122000@healthyoxfordarea.org
SUMMARY:Milford Twp. Community Listening Session
DESCRIPTION:Join the Coalition for a Healthy Community- Oxford Area for an open forum where your voice matters! Share your thoughts\, experiences\, and ideas to help us build a healthier\, stronger community. \nWhen: Wednesday\, November 20th at 4pm \nWhere: Milford Twp. Community Center. 5113 Huston Rd\, Milford Township\, OH 45150 \n\nDownload (PDF\, 955KB)
URL:https://healthyoxfordarea.org/events/milford-twp-community-listening-session/
LOCATION:OH
END:VEVENT
BEGIN:VEVENT
DTSTART;TZID=America/New_York:20241113T120000
DTEND;TZID=America/New_York:20241113T130000
DTSTAMP:20260423T153315
CREATED:20241021T165323Z
LAST-MODIFIED:20241021T165354Z
UID:2024-1731499200-1731502800@healthyoxfordarea.org
SUMMARY:Oxford Township Community Listening Session @TOPSS
DESCRIPTION:Join the Coalition for a Healthy Community- Oxford Area for an open forum where your voice matters! Share your thoughts\, experiences\, and ideas to help us build a healthier\, stronger community. \nWhen: Wednesday\, November 13th at 12pm-1pm \nWhere: TOPSS Food Pantry. 5445 College Corner Pike\, Oxford\, Ohio 45056 \n 
URL:https://healthyoxfordarea.org/events/oxford-township-community-listening-session-topss/
LOCATION:OH
END:VEVENT
END:VCALENDAR