BEGIN:VCALENDAR
VERSION:2.0
PRODID:-//Coalition for a Healthy Community - Oxford Area - ECPv6.15.20//NONSGML v1.0//EN
CALSCALE:GREGORIAN
METHOD:PUBLISH
X-ORIGINAL-URL:https://healthyoxfordarea.org
X-WR-CALDESC:Events for Coalition for a Healthy Community - Oxford Area
REFRESH-INTERVAL;VALUE=DURATION:PT1H
X-Robots-Tag:noindex
X-PUBLISHED-TTL:PT1H
BEGIN:VTIMEZONE
TZID:America/New_York
BEGIN:DAYLIGHT
TZOFFSETFROM:-0500
TZOFFSETTO:-0400
TZNAME:EDT
DTSTART:20230312T070000
END:DAYLIGHT
BEGIN:STANDARD
TZOFFSETFROM:-0400
TZOFFSETTO:-0500
TZNAME:EST
DTSTART:20231105T060000
END:STANDARD
BEGIN:DAYLIGHT
TZOFFSETFROM:-0500
TZOFFSETTO:-0400
TZNAME:EDT
DTSTART:20240310T070000
END:DAYLIGHT
BEGIN:STANDARD
TZOFFSETFROM:-0400
TZOFFSETTO:-0500
TZNAME:EST
DTSTART:20241103T060000
END:STANDARD
BEGIN:DAYLIGHT
TZOFFSETFROM:-0500
TZOFFSETTO:-0400
TZNAME:EDT
DTSTART:20250309T070000
END:DAYLIGHT
BEGIN:STANDARD
TZOFFSETFROM:-0400
TZOFFSETTO:-0500
TZNAME:EST
DTSTART:20251102T060000
END:STANDARD
END:VTIMEZONE
BEGIN:VEVENT
DTSTART;TZID=America/New_York:20240717T170000
DTEND;TZID=America/New_York:20240717T180000
DTSTAMP:20260424T042956
CREATED:20240521T183722Z
LAST-MODIFIED:20240521T183722Z
UID:1647-1721235600-1721239200@healthyoxfordarea.org
SUMMARY:Free Community Resources-Somerville Community Church
DESCRIPTION:Free Community Resources-Health + Safety and Community Information at the Somerville Community Church. TOPSS Food Pantry\, Lane Public Library\, and First Aid/Hygiene will be available. See our monthly locations on the flyer below. \nhttps://healthyoxfordarea.org/wp-content/uploads/2024/05/wed.jpg
URL:https://healthyoxfordarea.org/events/free-community-resources-somerville-community-church-2/
END:VEVENT
BEGIN:VEVENT
DTSTART;TZID=America/New_York:20240717T033000
DTEND;TZID=America/New_York:20240717T163000
DTSTAMP:20260424T042956
CREATED:20240521T163559Z
LAST-MODIFIED:20240521T172516Z
UID:1630-1721187000-1721233800@healthyoxfordarea.org
SUMMARY:Free Community Resources-Milford Twp Community Center
DESCRIPTION:Free Community Resources-Health + Safety and Community Information in the parking lot at the Milford Township Community Center. 5113 Huston Road. Collinsville\, OH 45004. TOPSS Food Pantry\, Lane Public Library\, and First Aid/Hygiene will be available.  See our monthly locations on the flyer below. \nhttps://healthyoxfordarea.org/wp-content/uploads/2024/05/wed.jpg
URL:https://healthyoxfordarea.org/events/free-community-resources-milford-twp-community-center-2/
END:VEVENT
BEGIN:VEVENT
DTSTART;TZID=America/New_York:20240713T090000
DTEND;TZID=America/New_York:20240713T100000
DTSTAMP:20260424T042956
CREATED:20240521T154431Z
LAST-MODIFIED:20240521T154754Z
UID:1582-1720861200-1720864800@healthyoxfordarea.org
SUMMARY:Yoga in the Park-Uptown Oxford
DESCRIPTION:FREE Yoga in the Park! Starting on Saturday\, June 8th and continues through October 9am-10am.  Located in the Oxford Uptown Park. All ages are welcome! \nNote: On August 10th & September 21st\, Yoga in the Park will be held at Lewis Place\, home of Miami University President Greg & Dr. Renate Crawford \n*Limited number of yoga mats available or you can always bring a towels \n*No Yoga if Raining \n\nDownload (PDF\, 3.06MB)
URL:https://healthyoxfordarea.org/events/yoga-in-the-park-uptown-oxford-5/
END:VEVENT
BEGIN:VEVENT
DTSTART;TZID=America/New_York:20240712T100000
DTEND;TZID=America/New_York:20240712T170000
DTSTAMP:20260424T042956
CREATED:20240618T211258Z
LAST-MODIFIED:20240618T211258Z
UID:1775-1720778400-1720803600@healthyoxfordarea.org
SUMMARY:Butler Rural FamilyDay!
DESCRIPTION:Come visit our table at Butler Rural’s Family Day! Visit this link for details.
URL:https://healthyoxfordarea.org/events/butler-rural-familyday/
END:VEVENT
BEGIN:VEVENT
DTSTART;TZID=America/New_York:20240710T153000
DTEND;TZID=America/New_York:20240710T163000
DTSTAMP:20260424T042956
CREATED:20240521T162516Z
LAST-MODIFIED:20240521T184737Z
UID:1620-1720625400-1720629000@healthyoxfordarea.org
SUMMARY:Free Community Resources-Darrtown
DESCRIPTION:Free Community Resources-Health + Safety and Community Information in the parking lot across from Don’s Carryout. TOPSS Food Pantry\, Lane Public Library\, and First Aid/Hygiene will be available. See our monthly locations on the flyer below. \nhttps://healthyoxfordarea.org/wp-content/uploads/2024/05/wed.jpg
URL:https://healthyoxfordarea.org/events/free-community-resources-darrtown-2/
END:VEVENT
BEGIN:VEVENT
DTSTART;TZID=America/New_York:20240706T090000
DTEND;TZID=America/New_York:20240706T100000
DTSTAMP:20260424T042956
CREATED:20240521T153549Z
LAST-MODIFIED:20240521T154813Z
UID:1579-1720256400-1720260000@healthyoxfordarea.org
SUMMARY:Yoga in the Park-Uptown Oxford
DESCRIPTION:FREE Yoga in the Park! Starting on Saturday\, June 8th and continues through October 9am-10am.  Located in the Oxford Uptown Park. All ages are welcome! \nNote: On August 10th & September 21st\, Yoga in the Park will be held at Lewis Place\, home of Miami University President Greg & Dr. Renate Crawford \n*Limited number of yoga mats available or you can always bring a towels \n*No Yoga if Raining \n\nDownload (PDF\, 3.06MB)
URL:https://healthyoxfordarea.org/events/yoga-in-the-park-uptown-oxford-4/
END:VEVENT
BEGIN:VEVENT
DTSTART;TZID=America/New_York:20240703T170000
DTEND;TZID=America/New_York:20240703T180000
DTSTAMP:20260424T042956
CREATED:20240618T205943Z
LAST-MODIFIED:20240618T211718Z
UID:1771-1720026000-1720029600@healthyoxfordarea.org
SUMMARY:Free Community Resources-Reily Twp
DESCRIPTION:Free Community Resources-Health + Safety and Community Information in the parking lot across from Don’s Carryout. TOPSS Food Pantry\, Lane Public Library\, and First Aid/Hygiene will be available. See our monthly locations on the flyer below. \nhttps://healthyoxfordarea.org/wp-content/uploads/2024/05/ed.jpg
URL:https://healthyoxfordarea.org/events/free-community-resources-reily-twp/
END:VEVENT
BEGIN:VEVENT
DTSTART;TZID=America/New_York:20240703T153000
DTEND;TZID=America/New_York:20240703T163000
DTSTAMP:20260424T042956
CREATED:20240618T210039Z
LAST-MODIFIED:20240618T211833Z
UID:1773-1720020600-1720024200@healthyoxfordarea.org
SUMMARY:Free Community Resources-Hanover Twp.
DESCRIPTION:Free Community Resources-Health + Safety and Community Information in the parking lot across from Don’s Carryout. TOPSS Food Pantry\, Lane Public Library\, and First Aid/Hygiene will be available. See our monthly locations on the flyer below.
URL:https://healthyoxfordarea.org/events/free-community-resources-hanover-twp/
END:VEVENT
BEGIN:VEVENT
DTSTART;TZID=America/New_York:20240629T130000
DTEND;TZID=America/New_York:20240629T160000
DTSTAMP:20260424T042956
CREATED:20240429T160307Z
LAST-MODIFIED:20240521T185116Z
UID:1393-1719666000-1719676800@healthyoxfordarea.org
SUMMARY:Hanover Township Kids Fest
DESCRIPTION:Saturday June 29th 1-4:30PM at the Hanover Township Park. \nWhat to expect! Balloon artist\, hay wagon rides\, food\, special treats\, pie eating contest\, fun and games! \n1:15pm Treasure Hunt \n2:15 Pie Eating Contest \n3:00pm Fitness for Fun Races \nSpecial Displays-Law Enforcement\, Fire Department\, Metro Parks \nPresented by: Hanover Township + Hanover Township Party Committee
URL:https://healthyoxfordarea.org/events/hanover-township-kids-fest/
END:VEVENT
BEGIN:VEVENT
DTSTART;TZID=America/New_York:20240629T090000
DTEND;TZID=America/New_York:20240629T100000
DTSTAMP:20260424T042956
CREATED:20240629T153454Z
LAST-MODIFIED:20240521T154158Z
UID:1577-1719651600-1719655200@healthyoxfordarea.org
SUMMARY:Yoga in the Park-Uptown Oxford
DESCRIPTION:FREE Yoga in the Park! Starting on Saturday\, June 8th and continues through October 9am-10am.  Located in the Oxford Uptown Park. All ages are welcome! \nNote: On August 10th & September 21st\, Yoga in the Park will be held at Lewis Place\, home of Miami University President Greg & Dr. Renate Crawford \n*Limited number of yoga mats available or you can always bring a towels \n*No Yoga if Raining \n\nDownload (PDF\, 3.06MB)
URL:https://healthyoxfordarea.org/events/yoga-in-the-park-uptown-oxford-3/
END:VEVENT
BEGIN:VEVENT
DTSTART;TZID=America/New_York:20240626T170000
DTEND;TZID=America/New_York:20240626T180000
DTSTAMP:20260424T042956
CREATED:20240521T191146Z
LAST-MODIFIED:20240521T191146Z
UID:1678-1719421200-1719424800@healthyoxfordarea.org
SUMMARY:Free Community Resources- H+R Block
DESCRIPTION:Free Community Resources-Health + Safety and Community Information at H+R Block. 5217 College Corner Pike. TOPSS Food Pantry\, Lane Library\, and Health and Safety/Hygiene items will be available. See our monthly locations on the flyer below. \nhttps://healthyoxfordarea.org/wp-content/uploads/2024/05/wed.jpg
URL:https://healthyoxfordarea.org/events/free-community-resources-hr-block/
END:VEVENT
BEGIN:VEVENT
DTSTART;TZID=America/New_York:20240626T153000
DTEND;TZID=America/New_York:20240626T163000
DTSTAMP:20260424T042956
CREATED:20240521T190235Z
LAST-MODIFIED:20240521T190235Z
UID:1667-1719415800-1719419400@healthyoxfordarea.org
SUMMARY:Free Community Resources-Kramer Elementary
DESCRIPTION:Free Community Resources-Health + Safety and Community Information at Kramer Elementary. TOPSS Food Pantry\, Lane Library\, and Health and Safety/Hygiene items will be available. See our monthly locations on the flyer below. \nhttps://healthyoxfordarea.org/wp-content/uploads/2024/05/wed.jpg
URL:https://healthyoxfordarea.org/events/free-community-resources-kramer-elementary/
END:VEVENT
BEGIN:VEVENT
DTSTART;TZID=America/New_York:20240622T090000
DTEND;TZID=America/New_York:20240622T100000
DTSTAMP:20260424T042956
CREATED:20240521T153406Z
LAST-MODIFIED:20240521T153406Z
UID:1575-1719046800-1719050400@healthyoxfordarea.org
SUMMARY:Yoga in the Park-Uptown Oxford
DESCRIPTION:FREE Yoga in the Park! Starting on Saturday\, June 8th and continues through October 9am-10am.  Located in the Oxford Uptown Park. All ages are welcome! \nNote: On August 10th & September 21st\, Yoga in the Park will be held at Lewis Place\, home of Miami University President Greg & Dr. Renate Crawford \n*Limited number of yoga mats available or you can always bring a towels \n*No Yoga if Raining \n\nDownload (PDF\, 3.06MB)
URL:https://healthyoxfordarea.org/events/yoga-in-the-park-uptown-oxford-2/
END:VEVENT
BEGIN:VEVENT
DTSTART;TZID=America/New_York:20240621T080000
DTEND;TZID=America/New_York:20240621T130000
DTSTAMP:20260424T042956
CREATED:20240607T115859Z
LAST-MODIFIED:20240607T115859Z
UID:1722-1718956800-1718974800@healthyoxfordarea.org
SUMMARY:HIKE-A-THON
DESCRIPTION:Hike-a-Thon is a family and pet friendly event that celebrates the outdoors and shows off the exciting progress of our Oxford and Miami Trail systems.\n\nEvent date: Saturday \, September 21st 2024\nTime: 8-8:30am check in\, 9am –  1 pm event\,\nLocation: DeWitt Cabin Trailhead\, 4831 Oxford Trenton Rd.\, Oxford\, OH 45056
URL:https://healthyoxfordarea.org/events/hike-a-thon/
END:VEVENT
BEGIN:VEVENT
DTSTART;TZID=America/New_York:20240615T090000
DTEND;TZID=America/New_York:20240615T100000
DTSTAMP:20260424T042956
CREATED:20240521T153321Z
LAST-MODIFIED:20240521T153321Z
UID:1573-1718442000-1718445600@healthyoxfordarea.org
SUMMARY:Yoga in the Park-Uptown Oxford
DESCRIPTION:FREE Yoga in the Park! Starting on Saturday\, June 8th and continues through October 9am-10am.  Located in the Oxford Uptown Park. All ages are welcome! \nNote: On August 10th & September 21st\, Yoga in the Park will be held at Lewis Place\, home of Miami University President Greg & Dr. Renate Crawford \n*Limited number of yoga mats available or you can always bring a towels \n*No Yoga if Raining \n\nDownload (PDF\, 3.06MB)
URL:https://healthyoxfordarea.org/events/yoga-in-the-park-uptown-oxford/
END:VEVENT
BEGIN:VEVENT
DTSTART;TZID=America/New_York:20240612T153000
DTEND;TZID=America/New_York:20240612T163000
DTSTAMP:20260424T042956
CREATED:20240521T161928Z
LAST-MODIFIED:20240521T171513Z
UID:1616-1718206200-1718209800@healthyoxfordarea.org
SUMMARY:Free Community Resources-Darrtown
DESCRIPTION:Free Community Resources-Health + Safety and Community Information in the parking lot across from Don’s Carryout. TOPSS Food Pantry\, Lane Public Library\, and First Aid/Hygiene will be available. See our monthly locations on the flyer below. \nhttps://healthyoxfordarea.org/wp-content/uploads/2024/05/wed.jpg
URL:https://healthyoxfordarea.org/events/free-community-resources-darrtown/
END:VEVENT
BEGIN:VEVENT
DTSTART;TZID=America/New_York:20240608T090000
DTEND;TZID=America/New_York:20240608T100000
DTSTAMP:20260424T042956
CREATED:20240521T153057Z
LAST-MODIFIED:20240521T153057Z
UID:1570-1717837200-1717840800@healthyoxfordarea.org
SUMMARY:Yoga in the Park
DESCRIPTION:FREE Yoga in the Park! Starting on Saturday\, June 8th and continues through October 9am-10am.  Located in the Oxford Uptown Park. All ages are welcome! \nNote: On August 10th & September 21st\, Yoga in the Park will be held at Lewis Place\, home of Miami University President Greg & Dr. Renate Crawford \n*Limited number of yoga mats available or you can always bring a towels \n*No Yoga if Raining \n\nDownload (PDF\, 3.06MB)
URL:https://healthyoxfordarea.org/events/yoga-in-the-park/
END:VEVENT
BEGIN:VEVENT
DTSTART;TZID=America/New_York:20240607T080000
DTEND;TZID=America/New_York:20240607T170000
DTSTAMP:20260424T042956
CREATED:20240607T120138Z
LAST-MODIFIED:20240607T120138Z
UID:1724-1717747200-1717779600@healthyoxfordarea.org
SUMMARY:Car Seat Check Event at McCullough-Hyde Memorial Hospital
DESCRIPTION:
URL:https://healthyoxfordarea.org/events/car-seat-check-event-at-mccullough-hyde-memorial-hospital/
END:VEVENT
BEGIN:VEVENT
DTSTART;TZID=America/New_York:20240529T164500
DTEND;TZID=America/New_York:20240529T174500
DTSTAMP:20260424T042956
CREATED:20240429T160001Z
LAST-MODIFIED:20240429T160040Z
UID:1387-1717001100-1717004700@healthyoxfordarea.org
SUMMARY:Somerville Community Resources
DESCRIPTION:Come Wednesday 4:45-5:45 pm to Somerville Community Church. 207 S Walnut St\, Somerville\, OH 45064. Check out books/videos from Lane Library\, pickup personal care items\, First-Aid materials\, and a bag of groceries from TOPSS.
URL:https://healthyoxfordarea.org/events/somerville-community-resources-9/
END:VEVENT
BEGIN:VEVENT
DTSTART;TZID=America/New_York:20240522T044500
DTEND;TZID=America/New_York:20240522T174500
DTSTAMP:20260424T042956
CREATED:20240429T155903Z
LAST-MODIFIED:20240429T155903Z
UID:1385-1716353100-1716399900@healthyoxfordarea.org
SUMMARY:Somerville Community Resources
DESCRIPTION:Come Wednesday 4:45-5:45 pm to Somerville Community Church. 207 S Walnut St\, Somerville\, OH 45064. Check out books/videos from Lane Library\, pickup personal care items\, First-Aid materials\, and a bag of groceries from TOPSS.
URL:https://healthyoxfordarea.org/events/somerville-community-resources-8/
END:VEVENT
BEGIN:VEVENT
DTSTART;TZID=America/New_York:20240515T044500
DTEND;TZID=America/New_York:20240515T174500
DTSTAMP:20260424T042956
CREATED:20240429T155801Z
LAST-MODIFIED:20240429T155801Z
UID:1382-1715748300-1715795100@healthyoxfordarea.org
SUMMARY:Somerville Community Resources
DESCRIPTION:Come Wednesday 4:45-5:45 pm to Somerville Community Church. 207 S Walnut St\, Somerville\, OH 45064. Check out books/videos from Lane Library\, pickup personal care items\, First-Aid materials\, and a bag of groceries from TOPSS.
URL:https://healthyoxfordarea.org/events/somerville-community-resources-7/
END:VEVENT
BEGIN:VEVENT
DTSTART;TZID=America/New_York:20240508T044500
DTEND;TZID=America/New_York:20240508T174500
DTSTAMP:20260424T042956
CREATED:20240429T155711Z
LAST-MODIFIED:20240429T155711Z
UID:1380-1715143500-1715190300@healthyoxfordarea.org
SUMMARY:Somerville Community Resources
DESCRIPTION:Come Wednesday 4:45-5:45 pm to Somerville Community Church. 207 S Walnut St\, Somerville\, OH 45064. Check out books/videos from Lane Library\, pickup personal care items\, First-Aid materials\, and a bag of groceries from TOPSS.
URL:https://healthyoxfordarea.org/events/somerville-community-resources-6/
END:VEVENT
BEGIN:VEVENT
DTSTART;TZID=America/New_York:20240501T164500
DTEND;TZID=America/New_York:20240501T174500
DTSTAMP:20260424T042956
CREATED:20240429T155559Z
LAST-MODIFIED:20240429T155559Z
UID:1378-1714581900-1714585500@healthyoxfordarea.org
SUMMARY:Somerville Community Resources
DESCRIPTION:Come Wednesday 4:45-5:45 pm to Somerville Community Church. 207 S Walnut St\, Somerville\, OH 45064. Check out books/videos from Lane Library\, pickup personal care items\, First-Aid materials\, and a bag of groceries from TOPSS.
URL:https://healthyoxfordarea.org/events/somerville-community-resources-5/
END:VEVENT
BEGIN:VEVENT
DTSTART;TZID=America/New_York:20240501T044500
DTEND;TZID=America/New_York:20240501T174500
DTSTAMP:20260424T042956
CREATED:20240411T175805Z
LAST-MODIFIED:20240411T175805Z
UID:1326-1714538700-1714585500@healthyoxfordarea.org
SUMMARY:Somerville Community Resources
DESCRIPTION:Come Wednesday 4:45-5:45 pm to Somerville Community Church. 207 S Walnut St\, Somerville\, OH 45064. Check out books/videos from Lane Library\, pickup personal care items\, First-Aid materials\, and a bag of groceries from TOPSS.
URL:https://healthyoxfordarea.org/events/somerville-community-resources-4/
END:VEVENT
BEGIN:VEVENT
DTSTART;TZID=America/New_York:20240427T100000
DTEND;TZID=America/New_York:20240427T140000
DTSTAMP:20260424T042956
CREATED:20240314T174729Z
LAST-MODIFIED:20240315T143541Z
UID:1294-1714212000-1714226400@healthyoxfordarea.org
SUMMARY:Medication Disposal Day
DESCRIPTION:Saturday\, April 27th 10-2pm.Bring your expired\, unused prescriptions or over-the-counter medications. Law enforcement officials will dispose of the contents in a safe\, legal\, and environmentally conscious manner. Accepting vaping devices and cartridges. Batteries MUST be removed! \nLocations to visit:\nOxford Township Police Department\n@ Walmart Parking Lot\, Oxford\, 45056\nOR\nOxford Police Department\n@ the Tri Community Center\n6025 Fairfield Rd\, Oxford\, OH 45056
URL:https://healthyoxfordarea.org/events/medication-disposal-day-3/
END:VEVENT
BEGIN:VEVENT
DTSTART;TZID=America/New_York:20240420T090000
DTEND;TZID=America/New_York:20240420T120000
DTSTAMP:20260424T042956
CREATED:20240314T172043Z
LAST-MODIFIED:20240314T172335Z
UID:1288-1713603600-1713614400@healthyoxfordarea.org
SUMMARY:F.R.E.S.H Air Fair-Family Resources and Education for Safety and Health
DESCRIPTION:
URL:https://healthyoxfordarea.org/events/f-r-e-s-h-air-fair-family-resources-and-education-for-safety-and-health/
LOCATION:Talawanda High School\, 5301 University Park Blvd\, Oxford\, OH\, 45056\, United States
END:VEVENT
BEGIN:VEVENT
DTSTART;TZID=America/New_York:20240417T164500
DTEND;TZID=America/New_York:20240417T174500
DTSTAMP:20260424T042956
CREATED:20240411T174920Z
LAST-MODIFIED:20240411T174920Z
UID:1322-1713372300-1713375900@healthyoxfordarea.org
SUMMARY:Somerville Community Resources
DESCRIPTION:Come Wednesday 4:45-5:45 pm to Somerville Community Church. 207 S Walnut St\, Somerville\, OH 45064. Check out books/videos from Lane Library\, pickup personal care items\, First-Aid materials\, and a bag of groceries from TOPSS.
URL:https://healthyoxfordarea.org/events/somerville-community-resources-2/
END:VEVENT
BEGIN:VEVENT
DTSTART;TZID=America/New_York:20240410T164500
DTEND;TZID=America/New_York:20240410T174500
DTSTAMP:20260424T042956
CREATED:20240411T175608Z
LAST-MODIFIED:20240411T175608Z
UID:1324-1712767500-1712771100@healthyoxfordarea.org
SUMMARY:Somerville Community Resources
DESCRIPTION:Come Wednesday 4:45-5:45 pm to Somerville Community Church. 207 S Walnut St\, Somerville\, OH 45064. Check out books/videos from Lane Library\, pickup personal care items\, First-Aid materials\, and a bag of groceries from TOPSS.
URL:https://healthyoxfordarea.org/events/somerville-community-resources-3/
END:VEVENT
BEGIN:VEVENT
DTSTART;TZID=America/New_York:20240403T044500
DTEND;TZID=America/New_York:20240403T174500
DTSTAMP:20260424T042956
CREATED:20240318T113812Z
LAST-MODIFIED:20240321T112325Z
UID:1304-1712119500-1712166300@healthyoxfordarea.org
SUMMARY:Somerville Community Resources
DESCRIPTION:Come Wednesday 4:45-5:45 pm to Somerville Community Church. 207 S Walnut St\, Somerville\, OH 45064. Check out books/videos from Lane Library\, pickup personal care items\, First-Aid materials\, and a bag of groceries from TOPSS.
URL:https://healthyoxfordarea.org/events/somerville-community-resources/
END:VEVENT
BEGIN:VEVENT
DTSTART;TZID=America/New_York:20240326T090000
DTEND;TZID=America/New_York:20240326T113000
DTSTAMP:20260424T042956
CREATED:20240318T112633Z
LAST-MODIFIED:20240318T112702Z
UID:1298-1711443600-1711452600@healthyoxfordarea.org
SUMMARY:Bluebird Coffee Klatch
DESCRIPTION:Stop in for coffee and conversation or a hot beverage of your choice and visit with friends new and old. Feel free to bring a picture of your favorite old tractor\, a sewing project\, a favorite book or bible study\, or start us off in a game of cards!
URL:https://healthyoxfordarea.org/events/bluebird-coffee-klatch/
END:VEVENT
END:VCALENDAR